git_url: https://git.bioconductor.org/packages/RTN
git_branch: RELEASE_3_17
git_last_commit: c954434
git_last_commit_date: 2023-04-25 10:28:10 -0400 (Tue, 25 Apr 2023)
Package: RTN
Version: 2.24.0
Maintainer: Mauro Castro
MaintainerEmail: mauro.a.castro at gmail.com