git_url: https://git.bioconductor.org/packages/RTCGAToolbox
git_branch: RELEASE_3_17
git_last_commit: 322a597
git_last_commit_date: 2023-04-25 10:39:51 -0400 (Tue, 25 Apr 2023)
Package: RTCGAToolbox
Version: 2.30.0
Maintainer: Marcel Ramos
MaintainerEmail: marcel.ramos at roswellpark.org