git_url: https://git.bioconductor.org/packages/RProtoBufLib
git_branch: RELEASE_3_17
git_last_commit: 0abb86e
git_last_commit_date: 2023-07-14 14:59:09 -0400 (Fri, 14 Jul 2023)
Package: RProtoBufLib
Version: 2.12.1
Maintainer: Mike Jiang
MaintainerEmail: mike at ozette.ai