git_url: https://git.bioconductor.org/packages/ROSeq
git_branch: RELEASE_3_17
git_last_commit: de48e95
git_last_commit_date: 2023-04-25 11:17:43 -0400 (Tue, 25 Apr 2023)
Package: ROSeq
Version: 1.12.0
Maintainer: Krishan Gupta
MaintainerEmail: krishang at iiitd.ac.in