Package: RNAmodR.RiboMethSeq Version: 1.14.0 Command: chmod a+r RNAmodR.RiboMethSeq -R && F:\biocbuild\bbs-3.17-bioc\R\bin\R.exe CMD build --keep-empty-dirs --no-resave-data RNAmodR.RiboMethSeq StartedAt: 2023-10-15 21:53:38 -0400 (Sun, 15 Oct 2023) EndedAt: 2023-10-15 21:56:37 -0400 (Sun, 15 Oct 2023) EllapsedTime: 179.2 seconds RetCode: 0 Status: OK PackageFile: RNAmodR.RiboMethSeq_1.14.0.tar.gz PackageFileSize: 471 KiB