Package: RNAmodR.RiboMethSeq Version: 1.14.0 Command: /home/biocbuild/bbs-3.17-bioc/R/bin/R CMD INSTALL RNAmodR.RiboMethSeq StartedAt: 2023-10-15 15:31:35 -0400 (Sun, 15 Oct 2023) EndedAt: 2023-10-15 15:32:32 -0400 (Sun, 15 Oct 2023) EllapsedTime: 56.6 seconds RetCode: 0 Status: OK