Package: RNAmodR.RiboMethSeq Version: 1.14.0 Command: /Library/Frameworks/R.framework/Resources/bin/R CMD build --keep-empty-dirs --no-resave-data RNAmodR.RiboMethSeq StartedAt: 2023-10-15 20:47:00 -0400 (Sun, 15 Oct 2023) EndedAt: 2023-10-15 20:51:11 -0400 (Sun, 15 Oct 2023) EllapsedTime: 250.9 seconds RetCode: 0 Status: OK PackageFile: RNAmodR.RiboMethSeq_1.14.0.tar.gz PackageFileSize: 607 KiB