Package: RNASeqPower
Version: 1.40.0
Command: /home/biocbuild/bbs-3.17-bioc/R/bin/R CMD INSTALL RNASeqPower
StartedAt: 2023-10-15 15:09:33 -0400 (Sun, 15 Oct 2023)
EndedAt: 2023-10-15 15:09:50 -0400 (Sun, 15 Oct 2023)
EllapsedTime: 16.7 seconds
RetCode: 0
Status: OK