Package: RNASeqPower
Version: 1.40.0
Command: /home/biocbuild/bbs-3.17-bioc/R/bin/R CMD build --keep-empty-dirs --no-resave-data RNASeqPower
StartedAt: 2023-10-15 18:16:00 -0400 (Sun, 15 Oct 2023)
EndedAt: 2023-10-15 18:16:04 -0400 (Sun, 15 Oct 2023)
EllapsedTime: 4.0 seconds
RetCode: 0
Status: OK
PackageFile: RNASeqPower_1.40.0.tar.gz
PackageFileSize: 110.3 <A href="http://en.wikipedia.org/wiki/KiB" target="_blank">KiB</A>