Package: RNASeqPower Version: 1.40.0 Command: /Library/Frameworks/R.framework/Resources/bin/R CMD INSTALL RNASeqPower StartedAt: 2023-10-15 15:07:34 -0400 (Sun, 15 Oct 2023) EndedAt: 2023-10-15 15:08:14 -0400 (Sun, 15 Oct 2023) EllapsedTime: 39.7 seconds RetCode: 0 Status: OK