Package: RNASeqPower Version: 1.40.0 Command: /Library/Frameworks/R.framework/Resources/bin/R CMD build --keep-empty-dirs --no-resave-data RNASeqPower StartedAt: 2023-10-15 20:47:30 -0400 (Sun, 15 Oct 2023) EndedAt: 2023-10-15 20:47:42 -0400 (Sun, 15 Oct 2023) EllapsedTime: 11.9 seconds RetCode: 0 Status: OK PackageFile: RNASeqPower_1.40.0.tar.gz PackageFileSize: 191.3 KiB