Package: RNASeqPower Version: 1.40.0 Command: rm -rf RNASeqPower.buildbin-libdir && mkdir RNASeqPower.buildbin-libdir && /Users/biocbuild/BBS/utils/build-universal.sh RNASeqPower_1.40.0.tar.gz /Library/Frameworks/R.framework/Resources/bin/R RNASeqPower.buildbin-libdir StartedAt: 2023-10-16 10:05:35 -0400 (Mon, 16 Oct 2023) EndedAt: 2023-10-16 10:05:41 -0400 (Mon, 16 Oct 2023) EllapsedTime: 6.4 seconds RetCode: 0 Status: OK PackageFile: RNASeqPower_1.40.0.tgz PackageFileSize: 198.7 KiB