Package: REMP Version: 1.24.0 Command: rm -rf REMP.buildbin-libdir && mkdir REMP.buildbin-libdir && F:\biocbuild\bbs-3.17-bioc\R\bin\R.exe CMD INSTALL --build --library=REMP.buildbin-libdir REMP_1.24.0.tar.gz StartedAt: 2023-10-16 09:22:07 -0400 (Mon, 16 Oct 2023) EndedAt: 2023-10-16 09:23:21 -0400 (Mon, 16 Oct 2023) EllapsedTime: 73.8 seconds RetCode: 0 Status: OK PackageFile: REMP_1.24.0.zip PackageFileSize: 695.6 KiB