Package: REMP Version: 1.24.0 Command: /home/biocbuild/bbs-3.17-bioc/R/bin/R CMD check --install=check:REMP.install-out.txt --library=/home/biocbuild/bbs-3.17-bioc/R/site-library --timings REMP_1.24.0.tar.gz StartedAt: 2023-10-16 00:21:07 -0400 (Mon, 16 Oct 2023) EndedAt: 2023-10-16 00:30:43 -0400 (Mon, 16 Oct 2023) EllapsedTime: 575.8 seconds RetCode: 0 Status: OK CheckDir: REMP.Rcheck Warnings: 0