Package: REMP Version: 1.24.0 Command: /Library/Frameworks/R.framework/Resources/bin/R CMD check --install=check:REMP.install-out.txt --library=/Library/Frameworks/R.framework/Resources/library --no-vignettes --timings REMP_1.24.0.tar.gz StartedAt: 2023-10-02 06:06:27 -0400 (Mon, 02 Oct 2023) EndedAt: 2023-10-02 06:25:04 -0400 (Mon, 02 Oct 2023) EllapsedTime: 1117.6 seconds RetCode: 0 Status: OK CheckDir: REMP.Rcheck Warnings: 0