git_url: https://git.bioconductor.org/packages/RDRToolbox
git_branch: RELEASE_3_17
git_last_commit: 0234b8b
git_last_commit_date: 2023-04-25 10:17:46 -0400 (Tue, 25 Apr 2023)
Package: RDRToolbox
Version: 1.50.0
Maintainer: Christoph Bartenhagen
MaintainerEmail: c.bartenhagen at uni-koeln.de