git_url: https://git.bioconductor.org/packages/QSutils
git_branch: RELEASE_3_17
git_last_commit: fdfc601
git_last_commit_date: 2023-04-25 11:05:37 -0400 (Tue, 25 Apr 2023)
Package: QSutils
Version: 1.18.0
Maintainer: Mercedes Guerrero-Murillo
MaintainerEmail: mergumu at gmail.com