Package: ProtGenerics Version: 1.32.0 Command: F:\biocbuild\bbs-3.17-bioc\R\bin\R.exe CMD check --no-multiarch --install=check:ProtGenerics.install-out.txt --library=F:\biocbuild\bbs-3.17-bioc\R\library --no-vignettes --timings ProtGenerics_1.32.0.tar.gz StartedAt: 2023-10-16 05:32:30 -0400 (Mon, 16 Oct 2023) EndedAt: 2023-10-16 05:32:53 -0400 (Mon, 16 Oct 2023) EllapsedTime: 23.7 seconds RetCode: 0 Status: OK CheckDir: ProtGenerics.Rcheck Warnings: 0