git_url: https://git.bioconductor.org/packages/PrInCE
git_branch: RELEASE_3_17
git_last_commit: 2b14b42
git_last_commit_date: 2023-04-25 11:08:27 -0400 (Tue, 25 Apr 2023)
Package: PrInCE
Version: 1.16.0
Maintainer: Michael Skinnider
MaintainerEmail: michael.skinnider at msl.ubc.ca