git_url: https://git.bioconductor.org/packages/PoDCall
git_branch: RELEASE_3_17
git_last_commit: 0ad2448
git_last_commit_date: 2023-04-25 11:25:42 -0400 (Tue, 25 Apr 2023)
Package: PoDCall
Version: 1.8.0
Maintainer: Hans Petter Brodal
MaintainerEmail: hans.petter.brodal at rr-research.no