Package: PathNet Version: 1.40.1 Command: F:\biocbuild\bbs-3.17-bioc\R\bin\R.exe CMD check --no-multiarch --install=check:PathNet.install-out.txt --library=F:\biocbuild\bbs-3.17-bioc\R\library --no-vignettes --timings PathNet_1.40.1.tar.gz StartedAt: 2023-10-16 05:09:12 -0400 (Mon, 16 Oct 2023) EndedAt: 2023-10-16 05:10:03 -0400 (Mon, 16 Oct 2023) EllapsedTime: 51.5 seconds RetCode: 0 Status: OK CheckDir: PathNet.Rcheck Warnings: 0