##############################################################################
##############################################################################
###
### Running command:
###
###   chmod a+r PathNet -R && F:\biocbuild\bbs-3.17-bioc\R\bin\R.exe CMD build --keep-empty-dirs --no-resave-data PathNet
###
##############################################################################
##############################################################################


* checking for file 'PathNet/DESCRIPTION' ... OK
* preparing 'PathNet':
* checking DESCRIPTION meta-information ... OK
* installing the package to build vignettes
* creating vignettes ... OK
* checking for LF line-endings in source and make files and shell scripts
* checking for empty or unneeded directories
* building 'PathNet_1.40.1.tar.gz'