git_url: https://git.bioconductor.org/packages/PanViz
git_branch: RELEASE_3_17
git_last_commit: 58bfc21
git_last_commit_date: 2023-04-25 11:38:30 -0400 (Tue, 25 Apr 2023)
Package: PanViz
Version: 1.2.0
Maintainer: Luca Anholt
MaintainerEmail: la1317 at ic.ac.uk