Package: PWMEnrich Version: 4.36.0 Command: F:\biocbuild\bbs-3.17-bioc\R\bin\R.exe CMD INSTALL PWMEnrich StartedAt: 2023-10-15 15:57:57 -0400 (Sun, 15 Oct 2023) EndedAt: 2023-10-15 15:58:22 -0400 (Sun, 15 Oct 2023) EllapsedTime: 25.0 seconds RetCode: 0 Status: OK