Package: PWMEnrich Version: 4.36.0 Command: rm -rf PWMEnrich.buildbin-libdir && mkdir PWMEnrich.buildbin-libdir && F:\biocbuild\bbs-3.17-bioc\R\bin\R.exe CMD INSTALL --build --library=PWMEnrich.buildbin-libdir PWMEnrich_4.36.0.tar.gz StartedAt: 2023-10-16 09:18:36 -0400 (Mon, 16 Oct 2023) EndedAt: 2023-10-16 09:19:01 -0400 (Mon, 16 Oct 2023) EllapsedTime: 24.9 seconds RetCode: 0 Status: OK PackageFile: PWMEnrich_4.36.0.zip PackageFileSize: 1.987 MiB