Package: PWMEnrich Version: 4.36.0 Command: /Library/Frameworks/R.framework/Resources/bin/R CMD build --keep-empty-dirs --no-resave-data PWMEnrich StartedAt: 2023-10-15 20:27:09 -0400 (Sun, 15 Oct 2023) EndedAt: 2023-10-15 20:29:47 -0400 (Sun, 15 Oct 2023) EllapsedTime: 157.5 seconds RetCode: 0 Status: OK PackageFile: PWMEnrich_4.36.0.tar.gz PackageFileSize: 1.571 MiB