git_url: https://git.bioconductor.org/packages/PREDA
git_branch: RELEASE_3_17
git_last_commit: 0e8e44c
git_last_commit_date: 2023-04-25 10:20:33 -0400 (Tue, 25 Apr 2023)
Package: PREDA
Version: 1.46.0
Maintainer: Francesco Ferrari
MaintainerEmail: francesco.ferrari at ifom.eu