git_url: https://git.bioconductor.org/packages/POWSC
git_branch: RELEASE_3_17
git_last_commit: 6563d50
git_last_commit_date: 2023-04-25 11:29:37 -0400 (Tue, 25 Apr 2023)
Package: POWSC
Version: 1.8.0
Maintainer: Kenong Su
MaintainerEmail: kenong.su at emory.edu