git_url: https://git.bioconductor.org/packages/PAST
git_branch: RELEASE_3_17
git_last_commit: c43bb98
git_last_commit_date: 2023-04-25 11:10:31 -0400 (Tue, 25 Apr 2023)
Package: PAST
Version: 1.16.0
Maintainer: Thrash Adam
MaintainerEmail: thrash at igbb.msstate.edu