git_url: https://git.bioconductor.org/packages/PAIRADISE
git_branch: RELEASE_3_17
git_last_commit: 9c68c5d
git_last_commit_date: 2023-04-25 11:07:05 -0400 (Tue, 25 Apr 2023)
Package: PAIRADISE
Version: 1.16.0
Maintainer: Qiang Hu <Qiang.Hu@roswellpark.org>, Levon Demirdjian
MaintainerEmail: levondem at ucla.edu