git_url: https://git.bioconductor.org/packages/OutSplice
git_branch: RELEASE_3_17
git_last_commit: 432912b
git_last_commit_date: 2023-07-13 18:28:28 -0400 (Thu, 13 Jul 2023)
Package: OutSplice
Version: 1.0.1
Maintainer: Theresa Guo
MaintainerEmail: twguo at health.ucsd.edu