git_url: https://git.bioconductor.org/packages/Oscope git_branch: RELEASE_3_17 git_last_commit: eb2a715 git_last_commit_date: 2023-04-25 10:40:48 -0400 (Tue, 25 Apr 2023) Package: Oscope Version: 1.30.0 Maintainer: Ning Leng MaintainerEmail: lengning1 at gmail.com