git_url: https://git.bioconductor.org/packages/OrderedList
git_branch: RELEASE_3_17
git_last_commit: 06bd738
git_last_commit_date: 2023-04-25 09:43:37 -0400 (Tue, 25 Apr 2023)
Package: OrderedList
Version: 1.72.0
Maintainer: Claudio Lottaz
MaintainerEmail: Claudio.Lottaz at klinik.uni-regensburg.de