git_url: https://git.bioconductor.org/packages/OpenStats
git_branch: RELEASE_3_17
git_last_commit: 7b0f7f1
git_last_commit_date: 2023-04-25 11:17:33 -0400 (Tue, 25 Apr 2023)
Package: OpenStats
Version: 1.12.0
Maintainer: Hamed Haseli Mashhadi
MaintainerEmail: hamedhm at ebi.ac.uk