git_url: https://git.bioconductor.org/packages/Omixer
git_branch: RELEASE_3_17
git_last_commit: 404b075
git_last_commit_date: 2023-04-25 11:21:31 -0400 (Tue, 25 Apr 2023)
Package: Omixer
Version: 1.10.0
Maintainer: Lucy Sinke
MaintainerEmail: l.j.sinke at lumc.nl