git_url: https://git.bioconductor.org/packages/OmicsLonDA
git_branch: RELEASE_3_17
git_last_commit: 8ad6456
git_last_commit_date: 2023-04-25 11:09:46 -0400 (Tue, 25 Apr 2023)
Package: OmicsLonDA
Version: 1.16.0
Maintainer: Ahmed A. Metwally
MaintainerEmail: ametwall at stanford.edu