git_url: https://git.bioconductor.org/packages/OmaDB
git_branch: RELEASE_3_17
git_last_commit: 660c372
git_last_commit_date: 2023-04-25 10:58:18 -0400 (Tue, 25 Apr 2023)
Package: OmaDB
Version: 2.16.0
Maintainer: Klara Kaleb <klara.kaleb18@ic.ac.uk>, Adrian Altenhoff
MaintainerEmail: adrian.altenhoff at inf.ethz.ch