git_url: https://git.bioconductor.org/packages/OVESEG
git_branch: RELEASE_3_17
git_last_commit: 103ac64
git_last_commit_date: 2023-04-25 11:07:08 -0400 (Tue, 25 Apr 2023)
Package: OVESEG
Version: 1.16.0
Maintainer: Lulu Chen
MaintainerEmail: luluchen at vt.edu