git_url: https://git.bioconductor.org/packages/NormalyzerDE
git_branch: RELEASE_3_17
git_last_commit: 2b9deb3
git_last_commit_date: 2023-09-12 14:48:33 -0400 (Tue, 12 Sep 2023)
Package: NormalyzerDE
Version: 1.18.1
Maintainer: Jakob Willforss
MaintainerEmail: jakob.willforss at hotmail.com