git_url: https://git.bioconductor.org/packages/NanoTube
git_branch: RELEASE_3_17
git_last_commit: 979a3f7
git_last_commit_date: 2023-04-25 11:30:49 -0400 (Tue, 25 Apr 2023)
Package: NanoTube
Version: 1.6.0
Maintainer: Caleb Class
MaintainerEmail: cclass at butler.edu