Package: NTW Version: 1.50.0 Command: /Library/Frameworks/R.framework/Resources/bin/R CMD build --keep-empty-dirs --no-resave-data NTW StartedAt: 2023-10-15 19:57:12 -0400 (Sun, 15 Oct 2023) EndedAt: 2023-10-15 19:57:42 -0400 (Sun, 15 Oct 2023) EllapsedTime: 29.2 seconds RetCode: 0 Status: OK PackageFile: NTW_1.50.0.tar.gz PackageFileSize: 872.1 KiB