git_url: https://git.bioconductor.org/packages/NCIgraph
git_branch: RELEASE_3_17
git_last_commit: 8aabb02
git_last_commit_date: 2023-08-10 11:07:00 -0400 (Thu, 10 Aug 2023)
Package: NCIgraph
Version: 1.48.1
Maintainer: Laurent Jacob
MaintainerEmail: laurent.jacob at gmail.com