git_url: https://git.bioconductor.org/packages/MutationalPatterns
git_branch: RELEASE_3_17
git_last_commit: 1ee8048
git_last_commit_date: 2023-04-25 10:50:27 -0400 (Tue, 25 Apr 2023)
Package: MutationalPatterns
Version: 3.10.0
Maintainer: Mark van Roosmalen
MaintainerEmail: vanBoxtelBioinformatics at prinsesmaximacentrum.nl