git_url: https://git.bioconductor.org/packages/MultiDataSet
git_branch: RELEASE_3_17
git_last_commit: d677ed3
git_last_commit_date: 2023-04-25 10:46:40 -0400 (Tue, 25 Apr 2023)
Package: MultiDataSet
Version: 1.28.0
Maintainer: Xavier Escribà Montagut
MaintainerEmail: xavier.escriba at isglobal.org