git_url: https://git.bioconductor.org/packages/Modstrings
git_branch: RELEASE_3_17
git_last_commit: c11469e
git_last_commit_date: 2023-04-25 11:08:24 -0400 (Tue, 25 Apr 2023)
Package: Modstrings
Version: 1.16.0
Maintainer: Felix G.M. Ernst
MaintainerEmail: felix.gm.ernst at outlook.com