Package: MinimumDistance Version: 1.44.0 Command: F:\biocbuild\bbs-3.17-bioc\R\bin\R.exe CMD INSTALL MinimumDistance StartedAt: 2023-10-15 16:59:54 -0400 (Sun, 15 Oct 2023) EndedAt: 2023-10-15 17:01:03 -0400 (Sun, 15 Oct 2023) EllapsedTime: 69.2 seconds RetCode: 0 Status: OK