Package: MinimumDistance Version: 1.44.0 Command: rm -rf MinimumDistance.buildbin-libdir && mkdir MinimumDistance.buildbin-libdir && F:\biocbuild\bbs-3.17-bioc\R\bin\R.exe CMD INSTALL --build --library=MinimumDistance.buildbin-libdir MinimumDistance_1.44.0.tar.gz StartedAt: 2023-10-16 09:05:34 -0400 (Mon, 16 Oct 2023) EndedAt: 2023-10-16 09:06:48 -0400 (Mon, 16 Oct 2023) EllapsedTime: 73.6 seconds RetCode: 0 Status: OK PackageFile: MinimumDistance_1.44.0.zip PackageFileSize: 3.513 MiB