Package: MinimumDistance Version: 1.44.0 Command: /Library/Frameworks/R.framework/Resources/bin/R CMD check --install=check:MinimumDistance.install-out.txt --library=/Library/Frameworks/R.framework/Resources/library --no-vignettes --timings MinimumDistance_1.44.0.tar.gz StartedAt: 2023-10-16 03:57:00 -0400 (Mon, 16 Oct 2023) EndedAt: 2023-10-16 04:09:56 -0400 (Mon, 16 Oct 2023) EllapsedTime: 775.9 seconds RetCode: 0 Status: WARNINGS CheckDir: MinimumDistance.Rcheck Warnings: 5