git_url: https://git.bioconductor.org/packages/MethylMix
git_branch: RELEASE_3_17
git_last_commit: 60d0830
git_last_commit_date: 2023-04-25 10:34:13 -0400 (Tue, 25 Apr 2023)
Package: MethylMix
Version: 2.30.0
Maintainer: Olivier Gevaert
MaintainerEmail: olivier.gevaert at gmail.com