git_url: https://git.bioconductor.org/packages/MethylAid
git_branch: RELEASE_3_17
git_last_commit: 47d3b65
git_last_commit_date: 2023-04-25 10:32:21 -0400 (Tue, 25 Apr 2023)
Package: MethylAid
Version: 1.34.0
Maintainer: L.J.Sinke
MaintainerEmail: L.J.Sinke at lumc.nl